BEGIN:VCALENDAR
VERSION:2.0
PRODID:-//hacksw/handcal//NONSGML v1.0//EN
BEGIN:VEVENT
SUMMARY:COUPE DEPARTEMENTALE MINIMES 2D
UID:458afeb3-ca12-49fc-b6f3-3695e8df13eb
DTSTART:20260424T220000Z
DTEND:20260425T220000Z
LOCATION:Localisation   
CATEGORIES:Sportif
STATUS:
DESCRIPTION:<p><span style="font-size:14px;">🏆 <strong>COUPE
 DEPARTEMENTALE MINIMES 2D</strong></span></p>
 
 <p><span
 style="font-size:14px;">👤 <strong>Competition individuelle –
 Minimes</strong><br />
 📅 Annees de naissance : 2012 → 2013<br
 />
 🥋 Ceintures : Blanche → Bleue</span></p>
 
 <p><span
 style="font-size:14px;">📆 <strong>Date :</strong> 25 avril 2026<br
 />
 📘 <strong>Saison :</strong> 2025 / 2026</span></p>
 
 <p><span
 style="font-size:14px;">📍 <strong>Lieu :</strong><br />
 Gymnase
 Aristide Berges<br />
 25 allee des Balmes<br />
 38180
 Seyssinet-Pariset</span></p>
 
 <p><span style="font-size:14px;">⏰
 <strong>Pesee :</strong><br />
 Masculins & Feminines : 13h30 –
 14h15</span></p>
 
 <p><span style="font-size:14px;"><strong>Date
 limite des inscriptions mardi 20 avril 2026 20:00</strong></span></p>
URL;VALUE=URI:https://judovdl.sportsregions.fr/evenements/2026/04/25/coupe-departementale-minimes-2d-2431240
END:VEVENT
BEGIN:VEVENT
SUMMARY:CHALLENGE SAMOURAI ESSM JUDO
UID:04e9ccc6-fc3c-4cff-9176-46f7f1b8e550
DTSTART:20260502T220000Z
DTEND:20260503T220000Z
LOCATION:Localisation   
CATEGORIES:Sportif
STATUS:
DESCRIPTION:<h2><span style="font-size:14px;">📅 <strong>Date
 :</strong> 3 mai 2026<br />
 📍 <strong>Lieu :</strong> Gymnase<br
 />
 Rue Georges Braque, 38400 Saint-Martin-d’Heres</span></h2>
 
 <hr
 />
 <h3><span style="font-size:14px;">⏰ Horaires des
 pesees</span></h3>
 
 <ul>
 	<li><span
 style="font-size:14px;"><strong>09h00 – 09h30</strong><br />
 	👉
 Minimes (2013–2012) & Benjamin(e)s
 (2015–2014)</span></li>
 	<li><span
 style="font-size:14px;"><strong>11h00 – 11h30</strong><br />
 	👉
 Poussin(e)s (2017–2016)</span></li>
 	<li><span
 style="font-size:14px;"><strong>13h00 – 13h30</strong><br />
 	👉
 Poussinets (2019–2018)</span></li>
 	<li><span
 style="font-size:14px;"><strong>15h00 – 15h30</strong><br />
 	👉
 Eveils Judo (2021–2020)</span></li>
 </ul>
 
 <hr />
 <p><span
 style="font-size:14px;">💡 <strong>Information :</strong><br
 />
 Tournoi ouvert a plusieurs categories d’age, ideal pour
 decouvrir la competition dans une ambiance conviviale et
 motivante.</span></p>
 
 <p><strong>Date limite des inscriptions 28
 avril 2026 20:00 </strong></p>
URL;VALUE=URI:https://judovdl.sportsregions.fr/evenements/2026/05/03/challenge-samourai-essm-judo-2431328
END:VEVENT
BEGIN:VEVENT
SUMMARY:CHALLENGE ANNIBALE CARMINATI
UID:0138ec62-88a0-4319-b9f6-b8bc385ed01e
DTSTART:20260529T220000Z
DTEND:20260530T220000Z
LOCATION:Localisation   
CATEGORIES:Sportif
STATUS:
DESCRIPTION:<p><span style="font-size:14px;"><strong>Samedi 30 mai
 2026</strong></span></p>
 
 <p><span style="font-size:14px;">📍
 <strong>Lieu</strong><br />
 Gymnase du Charlaix<br />
 Chemin du Vieux
 Chene<br />
 38240 Meylan</span></p>
 
 <p><span
 style="font-size:14px;">👶👦 <strong>Categories</strong><br />
 De
 Mini-Poussins a Cadet(te)s</span></p>
 
 <p><span
 style="font-size:14px;">⏱ <strong>Horaires des pesees</strong><br
 />
 Les horaires seront communiques
 ulterieurement</span></p>
 
 <p><span style="font-size:14px;">📝
 <strong>Inscriptions</strong><br />
 Date limite : <strong>10 mai 2026
 a 20h</strong></span></p>
URL;VALUE=URI:https://judovdl.sportsregions.fr/evenements/2026/05/30/challenge-annibale-carminati-2431344
END:VEVENT
END:VCALENDAR
