BEGIN:VCALENDAR
VERSION:2.0
PRODID:-//hacksw/handcal//NONSGML v1.0//EN
BEGIN:VEVENT
SUMMARY:Cadets/Adultes
UID:e69a1cfe-5ab4-435b-ad5c-280f794df366
DTSTART:20260316T183000Z
DTEND:20260316T200000Z
LOCATION:Localisation   
CATEGORIES:Entrainement
STATUS:
DESCRIPTION:<p><strong>Cours de judo – 19h30 a 21h00</strong></p>
URL;VALUE=URI:https://judovdl.sportsregions.fr/evenements/2026/03/16/cadetsadultes-2428792
END:VEVENT
END:VCALENDAR
