BEGIN:VCALENDAR
VERSION:2.0
PRODID:-//hacksw/handcal//NONSGML v1.0//EN
BEGIN:VEVENT
SUMMARY:Minimes/Benjamins/Academie
UID:c984ac22-ebe4-4a5f-a99b-404b10286e91
DTSTART:20260316T170000Z
DTEND:20260316T180000Z
LOCATION:Localisation   
CATEGORIES:Entrainement
STATUS:
DESCRIPTION:<p><strong>Cours de judo – 18h00 a 19h00</strong></p>
URL;VALUE=URI:https://judovdl.sportsregions.fr/evenements/2026/03/16/minimesbenjaminsacademie-2428789
END:VEVENT
END:VCALENDAR
