BEGIN:VCALENDAR
VERSION:2.0
PRODID:-//hacksw/handcal//NONSGML v1.0//EN
BEGIN:VEVENT
SUMMARY:Poussins
UID:0f18d902-15aa-4744-b69b-95ea159634ba
DTSTART:20260316T160000Z
DTEND:20260316T170000Z
LOCATION:Localisation   
CATEGORIES:Entrainement
STATUS:
DESCRIPTION:<p><strong>Cours de judo – 17h00 a 18h00</strong></p>
URL;VALUE=URI:https://judovdl.sportsregions.fr/evenements/2026/03/16/poussins-2428784
END:VEVENT
END:VCALENDAR
