BEGIN:VCALENDAR
VERSION:2.0
PRODID:-//hacksw/handcal//NONSGML v1.0//EN
BEGIN:VEVENT
SUMMARY:Cadets/Adultes
UID:e603cf50-0856-41b4-b22d-43e3252f77d2
DTSTART:20260318T173000Z
DTEND:20260318T190000Z
LOCATION:Localisation   
CATEGORIES:Entrainement
STATUS:
DESCRIPTION:<p><strong>Cours de judo – 18h30 a 20h00</strong></p>
URL;VALUE=URI:https://judovdl.sportsregions.fr/evenements/2026/03/18/cadetsadultes-2428807
END:VEVENT
END:VCALENDAR
