BEGIN:VCALENDAR
VERSION:2.0
PRODID:-//hacksw/handcal//NONSGML v1.0//EN
BEGIN:VEVENT
SUMMARY:Judo Academie
UID:b6c5fdbc-5743-461d-8d79-084b4f7d8b92
DTSTART:20260318T123000Z
DTEND:20260318T140000Z
LOCATION:Localisation   
CATEGORIES:Entrainement
STATUS:
DESCRIPTION:<p>Cours de judo – 13h30 a 15h00</p>
URL;VALUE=URI:https://judovdl.sportsregions.fr/evenements/2026/03/18/judo-academie-2428806
END:VEVENT
END:VCALENDAR
