BEGIN:VCALENDAR
VERSION:2.0
PRODID:-//hacksw/handcal//NONSGML v1.0//EN
BEGIN:VEVENT
SUMMARY:Mini Poussins
UID:c825083f-e056-4fc7-adb4-b126fa793298
DTSTART:20260318T101500Z
DTEND:20260318T110000Z
LOCATION:Localisation   
CATEGORIES:Entrainement
STATUS:
DESCRIPTION:<p><strong>Cours de judo – 11h15 a 12h00</strong></p>
URL;VALUE=URI:https://judovdl.sportsregions.fr/evenements/2026/03/18/mini-poussins-2428803
END:VEVENT
END:VCALENDAR
