BEGIN:VCALENDAR
VERSION:2.0
PRODID:-//hacksw/handcal//NONSGML v1.0//EN
BEGIN:VEVENT
SUMMARY:Judo Chapelle en Vercors
UID:0462bab5-1788-4e78-92a3-6ab8bebc03ea
DTSTART:20260319T163000Z
DTEND:20260319T173000Z
LOCATION:Localisation   
CATEGORIES:Entrainement
STATUS:
DESCRIPTION:<p><strong>Cours de judo – 17h30 a 18h30</strong></p>
URL;VALUE=URI:https://judovdl.sportsregions.fr/evenements/2026/03/19/judo-chapelle-en-vercors-2428811
END:VEVENT
END:VCALENDAR
