BEGIN:VCALENDAR
VERSION:2.0
PRODID:-//hacksw/handcal//NONSGML v1.0//EN
BEGIN:VEVENT
SUMMARY:Judo Academie
UID:0c8af355-4796-40e8-a053-d65fba0d243c
DTSTART:20260325T123000Z
DTEND:20260325T140000Z
LOCATION:Localisation   
CATEGORIES:Entrainement
STATUS:
DESCRIPTION:<p>Cours de judo – 13h30 a 15h00</p>
URL;VALUE=URI:https://judovdl.sportsregions.fr/evenements/2026/03/25/judo-academie-2428830
END:VEVENT
END:VCALENDAR
