BEGIN:VCALENDAR
VERSION:2.0
PRODID:-//hacksw/handcal//NONSGML v1.0//EN
BEGIN:VEVENT
SUMMARY:Poussins
UID:0fc7288b-6d64-4f42-96d6-e9844b98a142
DTSTART:20260325T090000Z
DTEND:20260325T100000Z
LOCATION:Localisation   
CATEGORIES:Entrainement
STATUS:
DESCRIPTION:<p><strong>Cours de judo – 10h00 a 11h00</strong></p>
URL;VALUE=URI:https://judovdl.sportsregions.fr/evenements/2026/03/25/poussins-2428802
END:VEVENT
END:VCALENDAR
