BEGIN:VCALENDAR
VERSION:2.0
PRODID:-//hacksw/handcal//NONSGML v1.0//EN
BEGIN:VEVENT
SUMMARY:Judo Academie
UID:dc2cdaec-57a9-4c8c-a929-146afcf24044
DTSTART:20260327T170000Z
DTEND:20260327T180000Z
LOCATION:Localisation   
CATEGORIES:Entrainement
STATUS:
DESCRIPTION:<p><strong>Cours de judo – 18h00 a 19h00</strong></p>
URL;VALUE=URI:https://judovdl.sportsregions.fr/evenements/2026/03/27/judo-academie-2428817
END:VEVENT
END:VCALENDAR
