BEGIN:VCALENDAR
VERSION:2.0
PRODID:-//hacksw/handcal//NONSGML v1.0//EN
BEGIN:VEVENT
SUMMARY:12eme Tournoi du Judo Club Belledonne
UID:c825096d-334f-4f31-8ee6-eab98cb7ddb4
DTSTART:20260328T230000Z
DTEND:20260329T230000Z
LOCATION:Localisation   
CATEGORIES:Sportif
STATUS:
DESCRIPTION:<p><span style="font-size:14px;"><strong>📅 Date
 :</strong> 29 mars 2026<br />
 <strong>📍 Lieu :</strong> Gymnase
 Pierre Allain – 240 impasse du Fiarey, 38410
 Saint-Martin-d’Uriage</span></p>
 
 <hr />
 <h3><span
 style="font-size:14px;">⏰ Horaires des
 pesees</span></h3>
 
 <ul>
 	<li>
 	<p><span
 style="font-size:14px;">09h00 – 09h30 : Minimes (2013–2012) &
 Cadet(te)s (2011–2010–2009)</span></p>
 	</li>
 	<li>
 	<p><span
 style="font-size:14px;">10h00 – 10h30 : Poussin(e)s -30 kg
 (2017–2016)</span></p>
 	</li>
 	<li>
 	<p><span
 style="font-size:14px;">11h00 – 11h30 : Poussin(e)s +30 kg
 (2017–2016)</span></p>
 	</li>
 	<li>
 	<p><span
 style="font-size:14px;">13h30 – 14h00 : Benjamin(e)s
 (2015–2014)</span></p>
 	</li>
 	<li>
 	<p><span
 style="font-size:14px;">14h00 – 14h30 : Mini-poussin(e)s -24 kg
 (2019–2018)</span></p>
 	</li>
 	<li>
 	<p><span
 style="font-size:14px;">15h00 – 15h30 : Mini-poussin(e)s +24 kg
 (2019–2018)</span></p>
 	</li>
 </ul>
 
 <hr />
 <p><span
 style="font-size:14px;">📌 Informations
 importantes</span></p>
 
 <ul>
 	<li>
 	<p><span
 style="font-size:14px;">Merci de respecter les horaires de
 pesee</span></p>
 	</li>
 	<li>
 	<p><span
 style="font-size:14px;">Prevoir judogi, ceinture et licence a
 jour</span></p>
 	</li>
 	<li>
 	<p><span
 style="font-size:14px;">Arriver 10–15 minutes en
 avance</span></p>
 	</li>
 </ul>
 
 <h3><strong>Date limite des
 inscriptions mardi 25 mars 2026 20:00</strong></h3>
URL;VALUE=URI:https://judovdl.sportsregions.fr/evenements/2026/03/29/12eme-tournoi-du-judo-club-belledonne-2431230
END:VEVENT
END:VCALENDAR
