BEGIN:VCALENDAR
VERSION:2.0
PRODID:-//hacksw/handcal//NONSGML v1.0//EN
BEGIN:VEVENT
SUMMARY:Minimes/Benjamins/Academie
UID:24d8ae62-388f-4d31-9a27-7c7687a31741
DTSTART:20260330T160000Z
DTEND:20260330T170000Z
LOCATION:Localisation   
CATEGORIES:Entrainement
STATUS:
DESCRIPTION:<p><strong>Cours de judo – 18h00 a 19h00</strong></p>
URL;VALUE=URI:https://judovdl.sportsregions.fr/evenements/2026/03/30/minimesbenjaminsacademie-2428790
END:VEVENT
END:VCALENDAR
