BEGIN:VCALENDAR
VERSION:2.0
PRODID:-//hacksw/handcal//NONSGML v1.0//EN
BEGIN:VEVENT
SUMMARY:Judo Chapelle en Vercors
UID:78189910-2058-49be-8025-10767e0ed30e
DTSTART:20260402T153000Z
DTEND:20260402T163000Z
LOCATION:Localisation   
CATEGORIES:Entrainement
STATUS:
DESCRIPTION:<p><strong>Cours de judo – 17h30 a 18h30</strong></p>
URL;VALUE=URI:https://judovdl.sportsregions.fr/evenements/2026/04/02/judo-chapelle-en-vercors-2428812
END:VEVENT
END:VCALENDAR
