BEGIN:VCALENDAR
VERSION:2.0
PRODID:-//hacksw/handcal//NONSGML v1.0//EN
BEGIN:VEVENT
SUMMARY:Poussins
UID:0f18d902-15aa-4744-b69b-95ea159634ba
DTSTART:20260316T160000Z
DTEND:20260316T170000Z
LOCATION:Localisation   
CATEGORIES:Entrainement
STATUS:
DESCRIPTION:<p><strong>Cours de judo – 17h00 a 18h00</strong></p>
URL;VALUE=URI:https://judovdl.sportsregions.fr/evenements/2026/03/16/poussins-2428784
END:VEVENT
BEGIN:VEVENT
SUMMARY:Minimes/Benjamins/Academie
UID:c984ac22-ebe4-4a5f-a99b-404b10286e91
DTSTART:20260316T170000Z
DTEND:20260316T180000Z
LOCATION:Localisation   
CATEGORIES:Entrainement
STATUS:
DESCRIPTION:<p><strong>Cours de judo – 18h00 a 19h00</strong></p>
URL;VALUE=URI:https://judovdl.sportsregions.fr/evenements/2026/03/16/minimesbenjaminsacademie-2428789
END:VEVENT
BEGIN:VEVENT
SUMMARY:Cadets/Adultes
UID:e69a1cfe-5ab4-435b-ad5c-280f794df366
DTSTART:20260316T183000Z
DTEND:20260316T200000Z
LOCATION:Localisation   
CATEGORIES:Entrainement
STATUS:
DESCRIPTION:<p><strong>Cours de judo – 19h30 a 21h00</strong></p>
URL;VALUE=URI:https://judovdl.sportsregions.fr/evenements/2026/03/16/cadetsadultes-2428792
END:VEVENT
BEGIN:VEVENT
SUMMARY:Judo Chapelle en Vercors
UID:450be372-e0a1-4158-b817-5e37e7a6d7c0
DTSTART:20260317T163000Z
DTEND:20260317T183000Z
LOCATION:Localisation   
CATEGORIES:Entrainement
STATUS:
DESCRIPTION:<p><strong>Cours de judo – 17h30 a 19h30</strong></p>
URL;VALUE=URI:https://judovdl.sportsregions.fr/evenements/2026/03/17/judo-chapelle-en-vercors-2428795
END:VEVENT
BEGIN:VEVENT
SUMMARY:Poussins
UID:8b902d9e-780e-4c32-8e6c-303cfdbecb95
DTSTART:20260318T090000Z
DTEND:20260318T100000Z
LOCATION:Localisation   
CATEGORIES:Entrainement
STATUS:
DESCRIPTION:<p><strong>Cours de judo – 10h00 a 11h00</strong></p>
URL;VALUE=URI:https://judovdl.sportsregions.fr/evenements/2026/03/18/poussins-2428800
END:VEVENT
BEGIN:VEVENT
SUMMARY:Mini Poussins
UID:c825083f-e056-4fc7-adb4-b126fa793298
DTSTART:20260318T101500Z
DTEND:20260318T110000Z
LOCATION:Localisation   
CATEGORIES:Entrainement
STATUS:
DESCRIPTION:<p><strong>Cours de judo – 11h15 a 12h00</strong></p>
URL;VALUE=URI:https://judovdl.sportsregions.fr/evenements/2026/03/18/mini-poussins-2428803
END:VEVENT
BEGIN:VEVENT
SUMMARY:Judo Academie
UID:b6c5fdbc-5743-461d-8d79-084b4f7d8b92
DTSTART:20260318T123000Z
DTEND:20260318T140000Z
LOCATION:Localisation   
CATEGORIES:Entrainement
STATUS:
DESCRIPTION:<p>Cours de judo – 13h30 a 15h00</p>
URL;VALUE=URI:https://judovdl.sportsregions.fr/evenements/2026/03/18/judo-academie-2428806
END:VEVENT
BEGIN:VEVENT
SUMMARY:Cadets/Adultes
UID:e603cf50-0856-41b4-b22d-43e3252f77d2
DTSTART:20260318T173000Z
DTEND:20260318T190000Z
LOCATION:Localisation   
CATEGORIES:Entrainement
STATUS:
DESCRIPTION:<p><strong>Cours de judo – 18h30 a 20h00</strong></p>
URL;VALUE=URI:https://judovdl.sportsregions.fr/evenements/2026/03/18/cadetsadultes-2428807
END:VEVENT
BEGIN:VEVENT
SUMMARY:Judo Chapelle en Vercors
UID:0462bab5-1788-4e78-92a3-6ab8bebc03ea
DTSTART:20260319T163000Z
DTEND:20260319T173000Z
LOCATION:Localisation   
CATEGORIES:Entrainement
STATUS:
DESCRIPTION:<p><strong>Cours de judo – 17h30 a 18h30</strong></p>
URL;VALUE=URI:https://judovdl.sportsregions.fr/evenements/2026/03/19/judo-chapelle-en-vercors-2428811
END:VEVENT
BEGIN:VEVENT
SUMMARY:Judo Academie
UID:919d9bcd-57a9-4f98-8815-8e81a98eee12
DTSTART:20260320T170000Z
DTEND:20260320T180000Z
LOCATION:Localisation   
CATEGORIES:Entrainement
STATUS:
DESCRIPTION:<p><strong>Cours de judo – 18h00 a 19h00</strong></p>
URL;VALUE=URI:https://judovdl.sportsregions.fr/evenements/2026/03/20/judo-academie-2428815
END:VEVENT
BEGIN:VEVENT
SUMMARY:Judo Academie/ Ceintures Couleurs
UID:8f0a49c7-702e-4671-b4c9-72395c65d4bc
DTSTART:20260320T180000Z
DTEND:20260320T193000Z
LOCATION:Localisation   
CATEGORIES:Entrainement
STATUS:
DESCRIPTION:<p><strong>Cours de judo – 19h00 a 20h30</strong></p>
URL;VALUE=URI:https://judovdl.sportsregions.fr/evenements/2026/03/20/judo-academie-ceintures-couleurs-2428818
END:VEVENT
BEGIN:VEVENT
SUMMARY:Poussins
UID:8bd45288-d1e5-4769-bffe-fb07b9784bf0
DTSTART:20260323T160000Z
DTEND:20260323T170000Z
LOCATION:Localisation   
CATEGORIES:Entrainement
STATUS:
DESCRIPTION:<p><strong>Cours de judo – 17h00 a 18h00</strong></p>
URL;VALUE=URI:https://judovdl.sportsregions.fr/evenements/2026/03/23/poussins-2428787
END:VEVENT
BEGIN:VEVENT
SUMMARY:Minimes/Benjamins/Academie
UID:b8f65b39-3b8c-43b4-96cc-b91dae7a1ec9
DTSTART:20260323T170000Z
DTEND:20260323T180000Z
LOCATION:Localisation   
CATEGORIES:Entrainement
STATUS:
DESCRIPTION:<p><strong>Cours de judo – 18h00 a 19h00</strong></p>
URL;VALUE=URI:https://judovdl.sportsregions.fr/evenements/2026/03/23/minimesbenjaminsacademie-2428791
END:VEVENT
BEGIN:VEVENT
SUMMARY:Cadets/Adultes
UID:213c1cb4-fed9-492d-a9cd-4b607947c040
DTSTART:20260323T183000Z
DTEND:20260323T200000Z
LOCATION:Localisation   
CATEGORIES:Entrainement
STATUS:
DESCRIPTION:<p><strong>Cours de judo – 19h30 a 21h00</strong></p>
URL;VALUE=URI:https://judovdl.sportsregions.fr/evenements/2026/03/23/cadetsadultes-2428794
END:VEVENT
BEGIN:VEVENT
SUMMARY:Judo Chapelle en Vercors
UID:ac969eff-077c-4aaf-98c9-3c787f94a54c
DTSTART:20260324T163000Z
DTEND:20260324T183000Z
LOCATION:Localisation   
CATEGORIES:Entrainement
STATUS:
DESCRIPTION:<p><strong>Cours de judo – 17h30 a 19h30</strong></p>
URL;VALUE=URI:https://judovdl.sportsregions.fr/evenements/2026/03/24/judo-chapelle-en-vercors-2428797
END:VEVENT
BEGIN:VEVENT
SUMMARY:Poussins
UID:0fc7288b-6d64-4f42-96d6-e9844b98a142
DTSTART:20260325T090000Z
DTEND:20260325T100000Z
LOCATION:Localisation   
CATEGORIES:Entrainement
STATUS:
DESCRIPTION:<p><strong>Cours de judo – 10h00 a 11h00</strong></p>
URL;VALUE=URI:https://judovdl.sportsregions.fr/evenements/2026/03/25/poussins-2428802
END:VEVENT
BEGIN:VEVENT
SUMMARY:Mini Poussins
UID:186296bd-6a58-4005-b23c-fb3c8ccb5627
DTSTART:20260325T101500Z
DTEND:20260325T110000Z
LOCATION:Localisation   
CATEGORIES:Entrainement
STATUS:
DESCRIPTION:<p><strong>Cours de judo – 11h15 a 12h00</strong></p>
URL;VALUE=URI:https://judovdl.sportsregions.fr/evenements/2026/03/25/mini-poussins-2428805
END:VEVENT
BEGIN:VEVENT
SUMMARY:Judo Academie
UID:0c8af355-4796-40e8-a053-d65fba0d243c
DTSTART:20260325T123000Z
DTEND:20260325T140000Z
LOCATION:Localisation   
CATEGORIES:Entrainement
STATUS:
DESCRIPTION:<p>Cours de judo – 13h30 a 15h00</p>
URL;VALUE=URI:https://judovdl.sportsregions.fr/evenements/2026/03/25/judo-academie-2428830
END:VEVENT
BEGIN:VEVENT
SUMMARY:Cadets/Adultes
UID:e7c03e44-cfee-454a-bdcd-4dcca165adfc
DTSTART:20260325T173000Z
DTEND:20260325T190000Z
LOCATION:Localisation   
CATEGORIES:Entrainement
STATUS:
DESCRIPTION:<p><strong>Cours de judo – 18h30 a 20h00</strong></p>
URL;VALUE=URI:https://judovdl.sportsregions.fr/evenements/2026/03/25/cadetsadultes-2428809
END:VEVENT
BEGIN:VEVENT
SUMMARY:Judo Chapelle en Vercors
UID:bf6af0b5-1c1a-4685-bf5a-c6eb49c0bd51
DTSTART:20260326T163000Z
DTEND:20260326T173000Z
LOCATION:Localisation   
CATEGORIES:Entrainement
STATUS:
DESCRIPTION:<p><strong>Cours de judo – 17h30 a 18h30</strong></p>
URL;VALUE=URI:https://judovdl.sportsregions.fr/evenements/2026/03/26/judo-chapelle-en-vercors-2428813
END:VEVENT
BEGIN:VEVENT
SUMMARY:Judo Academie
UID:dc2cdaec-57a9-4c8c-a929-146afcf24044
DTSTART:20260327T170000Z
DTEND:20260327T180000Z
LOCATION:Localisation   
CATEGORIES:Entrainement
STATUS:
DESCRIPTION:<p><strong>Cours de judo – 18h00 a 19h00</strong></p>
URL;VALUE=URI:https://judovdl.sportsregions.fr/evenements/2026/03/27/judo-academie-2428817
END:VEVENT
BEGIN:VEVENT
SUMMARY:Judo Academie/ Ceintures Couleurs
UID:124c75f0-1a23-439b-a3a5-a12948492009
DTSTART:20260327T180000Z
DTEND:20260327T193000Z
LOCATION:Localisation   
CATEGORIES:Entrainement
STATUS:
DESCRIPTION:<p><strong>Cours de judo – 19h00 a 20h30</strong></p>
URL;VALUE=URI:https://judovdl.sportsregions.fr/evenements/2026/03/27/judo-academie-ceintures-couleurs-2428820
END:VEVENT
BEGIN:VEVENT
SUMMARY:12eme Tournoi du Judo Club Belledonne
UID:c825096d-334f-4f31-8ee6-eab98cb7ddb4
DTSTART:20260328T230000Z
DTEND:20260329T230000Z
LOCATION:Localisation   
CATEGORIES:Sportif
STATUS:
DESCRIPTION:<p><span style="font-size:14px;"><strong>📅 Date
 :</strong> 29 mars 2026<br />
 <strong>📍 Lieu :</strong> Gymnase
 Pierre Allain – 240 impasse du Fiarey, 38410
 Saint-Martin-d’Uriage</span></p>
 
 <hr />
 <h3><span
 style="font-size:14px;">⏰ Horaires des
 pesees</span></h3>
 
 <ul>
 	<li>
 	<p><span
 style="font-size:14px;">09h00 – 09h30 : Minimes (2013–2012) &
 Cadet(te)s (2011–2010–2009)</span></p>
 	</li>
 	<li>
 	<p><span
 style="font-size:14px;">10h00 – 10h30 : Poussin(e)s -30 kg
 (2017–2016)</span></p>
 	</li>
 	<li>
 	<p><span
 style="font-size:14px;">11h00 – 11h30 : Poussin(e)s +30 kg
 (2017–2016)</span></p>
 	</li>
 	<li>
 	<p><span
 style="font-size:14px;">13h30 – 14h00 : Benjamin(e)s
 (2015–2014)</span></p>
 	</li>
 	<li>
 	<p><span
 style="font-size:14px;">14h00 – 14h30 : Mini-poussin(e)s -24 kg
 (2019–2018)</span></p>
 	</li>
 	<li>
 	<p><span
 style="font-size:14px;">15h00 – 15h30 : Mini-poussin(e)s +24 kg
 (2019–2018)</span></p>
 	</li>
 </ul>
 
 <hr />
 <p><span
 style="font-size:14px;">📌 Informations
 importantes</span></p>
 
 <ul>
 	<li>
 	<p><span
 style="font-size:14px;">Merci de respecter les horaires de
 pesee</span></p>
 	</li>
 	<li>
 	<p><span
 style="font-size:14px;">Prevoir judogi, ceinture et licence a
 jour</span></p>
 	</li>
 	<li>
 	<p><span
 style="font-size:14px;">Arriver 10–15 minutes en
 avance</span></p>
 	</li>
 </ul>
 
 <h3><strong>Date limite des
 inscriptions mardi 25 mars 2026 20:00</strong></h3>
URL;VALUE=URI:https://judovdl.sportsregions.fr/evenements/2026/03/29/12eme-tournoi-du-judo-club-belledonne-2431230
END:VEVENT
BEGIN:VEVENT
SUMMARY:Poussins
UID:06fd2379-2cb2-4b5c-a4ef-9d5f9c1513ac
DTSTART:20260330T150000Z
DTEND:20260330T160000Z
LOCATION:Localisation   
CATEGORIES:Entrainement
STATUS:
DESCRIPTION:<p><strong>Cours de judo – 17h00 a 18h00</strong></p>
URL;VALUE=URI:https://judovdl.sportsregions.fr/evenements/2026/03/30/poussins-2428786
END:VEVENT
BEGIN:VEVENT
SUMMARY:Minimes/Benjamins/Academie
UID:24d8ae62-388f-4d31-9a27-7c7687a31741
DTSTART:20260330T160000Z
DTEND:20260330T170000Z
LOCATION:Localisation   
CATEGORIES:Entrainement
STATUS:
DESCRIPTION:<p><strong>Cours de judo – 18h00 a 19h00</strong></p>
URL;VALUE=URI:https://judovdl.sportsregions.fr/evenements/2026/03/30/minimesbenjaminsacademie-2428790
END:VEVENT
BEGIN:VEVENT
SUMMARY:Cadets/Adultes
UID:b69f06fc-ed3a-46dc-827a-ddd231b37aae
DTSTART:20260330T173000Z
DTEND:20260330T190000Z
LOCATION:Localisation   
CATEGORIES:Entrainement
STATUS:
DESCRIPTION:<p><strong>Cours de judo – 19h30 a 21h00</strong></p>
URL;VALUE=URI:https://judovdl.sportsregions.fr/evenements/2026/03/30/cadetsadultes-2428793
END:VEVENT
BEGIN:VEVENT
SUMMARY:Judo Chapelle en Vercors
UID:1b1b46fc-358c-4f7a-9922-60cb03551ffa
DTSTART:20260331T153000Z
DTEND:20260331T173000Z
LOCATION:Localisation   
CATEGORIES:Entrainement
STATUS:
DESCRIPTION:<p><strong>Cours de judo – 17h30 a 19h30</strong></p>
URL;VALUE=URI:https://judovdl.sportsregions.fr/evenements/2026/03/31/judo-chapelle-en-vercors-2428796
END:VEVENT
BEGIN:VEVENT
SUMMARY:Poussins
UID:6d5342b4-064f-470b-9b0e-4ea2875594bf
DTSTART:20260401T080000Z
DTEND:20260401T090000Z
LOCATION:Localisation   
CATEGORIES:Entrainement
STATUS:
DESCRIPTION:<p><strong>Cours de judo – 10h00 a 11h00</strong></p>
URL;VALUE=URI:https://judovdl.sportsregions.fr/evenements/2026/04/01/poussins-2428801
END:VEVENT
BEGIN:VEVENT
SUMMARY:Mini Poussins
UID:769298bb-1c69-45c4-b18d-80bcc7cd71a6
DTSTART:20260401T091500Z
DTEND:20260401T100000Z
LOCATION:Localisation   
CATEGORIES:Entrainement
STATUS:
DESCRIPTION:<p><strong>Cours de judo – 11h15 a 12h00</strong></p>
URL;VALUE=URI:https://judovdl.sportsregions.fr/evenements/2026/04/01/mini-poussins-2428804
END:VEVENT
BEGIN:VEVENT
SUMMARY:Judo Academie
UID:87f6eeca-d254-4284-8d21-a397f3dc5c40
DTSTART:20260401T113000Z
DTEND:20260401T130000Z
LOCATION:Localisation   
CATEGORIES:Entrainement
STATUS:
DESCRIPTION:<p>Cours de judo – 13h30 a 15h00</p>
URL;VALUE=URI:https://judovdl.sportsregions.fr/evenements/2026/04/01/judo-academie-2428829
END:VEVENT
BEGIN:VEVENT
SUMMARY:Cadets/Adultes
UID:08fde810-fb36-4bae-a1e4-ca5bce8d2d2c
DTSTART:20260401T163000Z
DTEND:20260401T180000Z
LOCATION:Localisation   
CATEGORIES:Entrainement
STATUS:
DESCRIPTION:<p><strong>Cours de judo – 18h30 a 20h00</strong></p>
URL;VALUE=URI:https://judovdl.sportsregions.fr/evenements/2026/04/01/cadetsadultes-2428808
END:VEVENT
BEGIN:VEVENT
SUMMARY:Judo Chapelle en Vercors
UID:78189910-2058-49be-8025-10767e0ed30e
DTSTART:20260402T153000Z
DTEND:20260402T163000Z
LOCATION:Localisation   
CATEGORIES:Entrainement
STATUS:
DESCRIPTION:<p><strong>Cours de judo – 17h30 a 18h30</strong></p>
URL;VALUE=URI:https://judovdl.sportsregions.fr/evenements/2026/04/02/judo-chapelle-en-vercors-2428812
END:VEVENT
BEGIN:VEVENT
SUMMARY:Judo Academie
UID:b520db31-614c-4b45-a524-5472c2b44d5d
DTSTART:20260403T160000Z
DTEND:20260403T170000Z
LOCATION:Localisation   
CATEGORIES:Entrainement
STATUS:
DESCRIPTION:<p><strong>Cours de judo – 18h00 a 19h00</strong></p>
URL;VALUE=URI:https://judovdl.sportsregions.fr/evenements/2026/04/03/judo-academie-2428816
END:VEVENT
BEGIN:VEVENT
SUMMARY:Judo Academie/ Ceintures Couleurs
UID:9c9f8b6f-08f2-4609-9778-3cb827aba52f
DTSTART:20260403T170000Z
DTEND:20260403T183000Z
LOCATION:Localisation   
CATEGORIES:Entrainement
STATUS:
DESCRIPTION:<p><strong>Cours de judo – 19h00 a 20h30</strong></p>
URL;VALUE=URI:https://judovdl.sportsregions.fr/evenements/2026/04/03/judo-academie-ceintures-couleurs-2428819
END:VEVENT
BEGIN:VEVENT
SUMMARY:CHAMPIONNAT REGIONAL INDIVIDUEL CADETS ESPOIRS (AURA)
UID:e1c3516b-3092-4d9b-9ecb-b168f0e2a608
DTSTART:20260404T220000Z
DTEND:20260405T220000Z
LOCATION:Localisation   
CATEGORIES:Sportif
STATUS:
DESCRIPTION:<p><span style="font-size:14px;"><strong>Dimanche 5 avril
 2026</strong></span></p>
 
 <p><span style="font-size:14px;">📍
 <strong>Lieu</strong><br />
 Gymnase Intercommunal Armand Morel<br
 />
 1060 route de Charlemagne<br />
 01380
 Bage-Dommartin</span></p>
 
 <p><span style="font-size:14px;">🥋
 <strong>Categorie</strong><br />
 Cadets Espoirs (nes en
 2011)</span></p>
 
 <p><span style="font-size:14px;">🎗
 <strong>Niveau</strong><br />
 Ceintures de <strong>Verte a
 Noire</strong></span></p>
 
 <p><span
 style="font-size:14px;"><strong>Date limite des inscriptions 28 avril
 2026 20:00 </strong></span></p>
URL;VALUE=URI:https://judovdl.sportsregions.fr/evenements/2026/04/05/championnat-regional-individuel-cadets-espoirs-aura-2431349
END:VEVENT
BEGIN:VEVENT
SUMMARY:STAGE BENJAMIN(E)S / MINIMES / CADET(TE)S N°1 – ISERE JUDO
UID:2254088a-1e46-4123-b5da-110c4e309484
DTSTART:20260406T220000Z
DTEND:20260407T220000Z
LOCATION:Localisation   
CATEGORIES:Sportif
STATUS:
DESCRIPTION:<p><span style="font-size:14px;"> <strong>Le 07 avril
 2026</strong><br />
 📍 <strong>DOJO YAMA SAKURA</strong><br />
 16
 chemin de Chambons<br />
 38560
 Monestier-de-Clermont</span></p>
 
 <p><span
 style="font-size:14px;">🥋 Programme</span></p>
 
 <p><span
 style="font-size:14px;">🕘 <strong>09h30 – 09h30</strong> :
 Accueil<br />
 🥋 <strong>10h00 – 12h00</strong> :
 Judo</span></p>
 
 <p><span style="font-size:14px;">🥪
 <strong>Dejeuner tire du sac</strong></span></p>
 
 <p><span
 style="font-size:14px;">⚽ <strong>13h30 – 14h30</strong> : Sport
 collectif<br />
 🥋 <strong>14h30 – 16h30</strong> :
 Judo</span></p>
 
 <p><span style="font-size:14px;">🏁
 <strong>16h30</strong> : Fin du stage</span></p>
URL;VALUE=URI:https://judovdl.sportsregions.fr/evenements/2026/04/07/stage-benjamines-minimes-cadettes-n1-isere-judo-2431239
END:VEVENT
END:VCALENDAR
